BEGIN:VCALENDAR
VERSION:2.0
PRODID:-//ChamberMaster//Event Calendar 2.0//EN
METHOD:PUBLISH
X-PUBLISHED-TTL:P3D
REFRESH-INTERVAL:P3D
CALSCALE:GREGORIAN
BEGIN:VEVENT
DTSTART:20180505T000000Z
DTEND:20180505T020000Z
X-MICROSOFT-CDO-ALLDAYEVENT:FALSE
SUMMARY:Palace City Jam 2018
DESCRIPTION:The Mitchell High School and Middle School Jazz Bands will be hosting an exciting night of entertaining music of all genres and will be featuring the amazingly talented Hegg Brothers from Sioux Falls. Come out and enjoy some great music along with cheesecake and coffee at the Highland Conference Center....an event you don't want to miss!
X-ALT-DESC;FMTTYPE=text/html:<span class="_4n-j _fbReactionComponent__eventDetailsContentTags fsl" data-testid="event-permalink-details">The Mitchell High School and Middle School Jazz Bands will be hosting an exciting night of entertaining music of all genres and will be featuring the amazingly talented Hegg Brothers from Sioux Falls. Come out and enjoy some great music along with cheesecake and coffee at the Highland Conference Center....an event you don&#39\;t want to miss!</span><br />\n<br />\n<br />\n&nbsp\;
LOCATION:Highland Conference Center
UID:e.1624.15176
SEQUENCE:3
DTSTAMP:20260425T142722Z
URL:https://business.mitchellchamber.com/events/details/palace-city-jam-2018-15176
END:VEVENT

END:VCALENDAR
