BEGIN:VCALENDAR
VERSION:2.0
PRODID:-//ChamberMaster//Event Calendar 2.0//EN
METHOD:PUBLISH
X-PUBLISHED-TTL:P3D
REFRESH-INTERVAL:P3D
CALSCALE:GREGORIAN
BEGIN:VEVENT
DTSTART:20220622T223000Z
DTEND:20220623T003000Z
X-MICROSOFT-CDO-ALLDAYEVENT:FALSE
SUMMARY:Palace City Farmer's Market
DESCRIPTION:Mitchell Farmer's Market is a seasonal open air market offering local fresh garden produce\, eggs\, meats\, canned goods\, jellies\, jams\, baked goods\, handcrafted items and more. Some evenings there will be family friendly presentations\, programs\, or special guests and entertainment that is always free to everyone.
X-ALT-DESC;FMTTYPE=text/html:Mitchell Farmer&#39\;s Market is a seasonal open air market offering local fresh garden produce\, eggs\, meats\, canned goods\, jellies\, jams\, baked goods\, handcrafted items and more. Some evenings there will be family friendly presentations\, programs\, or special guests and entertainment that is always free to everyone.&nbsp\;
LOCATION:Corn Palace Plaza 6th & Main Mitchell\, South Dakota
UID:e.1624.32093
SEQUENCE:3
DTSTAMP:20260421T235215Z
URL:https://business.mitchellchamber.com/events/details/palace-city-farmer-s-market-32093
END:VEVENT

END:VCALENDAR
