BEGIN:VCALENDAR
VERSION:2.0
PRODID:-//ChamberMaster//Event Calendar 2.0//EN
METHOD:PUBLISH
X-PUBLISHED-TTL:P3D
REFRESH-INTERVAL:P3D
CALSCALE:GREGORIAN
BEGIN:VEVENT
DTSTART:20220623T153000Z
DTEND:20220623T170000Z
X-MICROSOFT-CDO-ALLDAYEVENT:FALSE
SUMMARY:Outdoor Thursday Storytime
DESCRIPTION:You're invited to Outdoor Thursday Storytime on June 16 at Hitchcock Park for stories\, rhymes\, a craft\, and fun. (We'll be at the shelter between the tennis courts.) Preschoolers\, toddlers\, infants\, and older children are welcome with parent or caregiver. Everyone is welcome. Questions? Please contact Jean Patrick\, Children's Services Librarian: 605-995-8480.
X-ALT-DESC;FMTTYPE=text/html:You&#39\;re invited to Outdoor Thursday Storytime on June 16 at Hitchcock Park for stories\, rhymes\, a craft\, and fun. (We&#39\;ll be at the shelter between the tennis courts.) Preschoolers\, toddlers\, infants\, and older children are welcome with parent or caregiver. Everyone is welcome. Questions? Please contact Jean Patrick\, Children&#39\;s Services Librarian: 605-995-8480.
LOCATION:Hitchcock Park Shelter
UID:e.1624.32625
SEQUENCE:3
DTSTAMP:20260421T235313Z
URL:https://business.mitchellchamber.com/events/details/outdoor-thursday-storytime-06-23-2022-32625
END:VEVENT

END:VCALENDAR
