BEGIN:VCALENDAR
VERSION:2.0
PRODID:-//ChamberMaster//Event Calendar 2.0//EN
METHOD:PUBLISH
X-PUBLISHED-TTL:P3D
REFRESH-INTERVAL:P3D
CALSCALE:GREGORIAN
BEGIN:VEVENT
DTSTART:20220813T000000Z
DTEND:20220813T040000Z
X-MICROSOFT-CDO-ALLDAYEVENT:FALSE
SUMMARY:Outdoor Movie Night
DESCRIPTION:Join us for our free outdoor family movie night on the lawn in front of the McGovern Library at DWU. The event is open at 7pm and the movie will begin at sundown (around 8:45pm). Bring a lawn chair or a blanket and enjoy the night! There will be popcorn\, games\, and more!\n\n\n\nThis event is sponsored by Fusion Church.
X-ALT-DESC;FMTTYPE=text/html:Join us for our free outdoor family movie night on the lawn in front of the McGovern Library at DWU. The event is open at 7pm and the movie will begin at sundown (around 8:45pm). Bring a lawn chair or a blanket and enjoy the night! There will be popcorn\, games\, and more!<br />\n<br />\nThis event is sponsored by Fusion Church.&nbsp\;
LOCATION:McGovern Library Lawn\; DWU
UID:e.1624.32666
SEQUENCE:3
DTSTAMP:20260421T202143Z
URL:https://business.mitchellchamber.com/events/details/outdoor-movie-night-32666
END:VEVENT

END:VCALENDAR
