BEGIN:VCALENDAR
VERSION:2.0
PRODID:-//ChamberMaster//Event Calendar 2.0//EN
METHOD:PUBLISH
X-PUBLISHED-TTL:P3D
REFRESH-INTERVAL:P3D
CALSCALE:GREGORIAN
BEGIN:VEVENT
DTSTART:20180406T220000Z
DTEND:20180407T000000Z
X-MICROSOFT-CDO-ALLDAYEVENT:FALSE
SUMMARY:Optimist Family Bowling Night
DESCRIPTION:Children ages preschool thru 5th grade and their families are invited to join the Mitchell Area Optimist Club for a night of bowling. Attendees can bowl one game\, enjoy pizza\, soda and frozen custard free of charge from 5-7pm. The organization will be accepting peanut butter and jelly or fruit cups for the Mitchell Weekend Snack Pack program.
X-ALT-DESC;FMTTYPE=text/html:Children ages preschool thru 5th grade and their families are invited to join the Mitchell Area Optimist Club for a night of bowling. Attendees can bowl one game\, enjoy pizza\, soda and frozen custard free of charge from 5-7pm. The organization will be accepting peanut butter and jelly or fruit cups for the Mitchell Weekend Snack Pack program.&nbsp\;
LOCATION:Village Bowl 1500 N Duff Mitchell\, SD 57301
UID:e.1624.13044
SEQUENCE:3
DTSTAMP:20260425T161734Z
URL:https://business.mitchellchamber.com/events/details/optimist-family-bowling-night-13044
END:VEVENT

END:VCALENDAR
