BEGIN:VCALENDAR
VERSION:2.0
PRODID:-//ChamberMaster//Event Calendar 2.0//EN
METHOD:PUBLISH
X-PUBLISHED-TTL:P3D
REFRESH-INTERVAL:P3D
CALSCALE:GREGORIAN
BEGIN:VEVENT
DTSTART:20190223T230000Z
DTEND:20190224T010000Z
X-MICROSOFT-CDO-ALLDAYEVENT:FALSE
SUMMARY:Optimist Club's Family Swim Night
DESCRIPTION:Join us for a FREE Swim Night on Saturday\, February 23\, 2019 from 5-7 pm at the Mitchell Indoor Aquatic Center! Event hosted by the Mitchell Area Optimist Club!
X-ALT-DESC;FMTTYPE=text/html:<span>Join us for a FREE Swim Night on Saturday\, February 23\, 2019 from 5-7 pm at the Mitchell Indoor Aquatic Center! Event hosted by the Mitchell Area Optimist Club!</span>
LOCATION:Mitchell Indoor Aquatic Center 1300 N. Main St. Mitchell\, SD 57301
UID:e.1624.22964
SEQUENCE:3
DTSTAMP:20260424T224626Z
URL:https://business.mitchellchamber.com/events/details/optimist-club-s-family-swim-night-22964
END:VEVENT

END:VCALENDAR
