BEGIN:VCALENDAR
VERSION:2.0
PRODID:-//ChamberMaster//Event Calendar 2.0//EN
METHOD:PUBLISH
X-PUBLISHED-TTL:P3D
REFRESH-INTERVAL:P3D
CALSCALE:GREGORIAN
BEGIN:VEVENT
DTSTART:20171214T233000Z
DTEND:20171215T013000Z
X-MICROSOFT-CDO-ALLDAYEVENT:FALSE
SUMMARY:Opening Reception for Winter Art Show
DESCRIPTION:The is the opening reception for the Winter Art Show hosted by Dakota Discovery Museum. This year's show features local and regional artists in the medium of photography with a thematic focus on fall\, winter\, or holiday scenes.
X-ALT-DESC;FMTTYPE=text/html:The is the opening reception for the Winter Art Show hosted by Dakota Discovery Museum. This year&#39\;s show features local and regional artists in the medium of photography with a thematic focus on fall\, winter\, or holiday scenes.
LOCATION:Dakota Discovery Museum
UID:e.1624.9201
SEQUENCE:3
DTSTAMP:20260425T221144Z
URL:https://business.mitchellchamber.com/events/details/opening-reception-for-winter-art-show-9201
END:VEVENT

END:VCALENDAR
