BEGIN:VCALENDAR
VERSION:2.0
PRODID:-//ChamberMaster//Event Calendar 2.0//EN
METHOD:PUBLISH
X-PUBLISHED-TTL:P3D
REFRESH-INTERVAL:P3D
CALSCALE:GREGORIAN
BEGIN:VEVENT
DTSTART:20180611T210000Z
DTEND:20180611T230000Z
X-MICROSOFT-CDO-ALLDAYEVENT:FALSE
SUMMARY:Open House at Quail View Senior Living
DESCRIPTION:Quail View Senior Living is having a FATHER'S DAY Open House on June 11\, Monday\, 4 PM to 6 pm: Realtors and 55+ friends and family\, come join us for Root Beer floats\, sandwiches\, and refreshments! Please share and RSVP so we prepare enough food\, thanks from Mitchell Realty Property Management.
X-ALT-DESC;FMTTYPE=text/html:<p>Quail View Senior Living is having a FATHER&#39\;S DAY Open House on June 11\, Monday\, 4 PM to 6 pm: Realtors and 55+ friends and family\, come join us for Root Beer floats\, sandwiches\, and refreshments! Please share and RSVP so we prepare enough food\, thanks from Mitchell Realty Property Management.</p>\n
LOCATION:1400 West 21st St Mitchell\, SD
UID:e.1624.15808
SEQUENCE:3
DTSTAMP:20260425T125149Z
URL:https://business.mitchellchamber.com/events/details/open-house-at-quail-view-senior-living-15808
END:VEVENT

END:VCALENDAR
