BEGIN:VCALENDAR
VERSION:2.0
PRODID:-//ChamberMaster//Event Calendar 2.0//EN
METHOD:PUBLISH
X-PUBLISHED-TTL:P3D
REFRESH-INTERVAL:P3D
CALSCALE:GREGORIAN
BEGIN:VEVENT
DTSTART:20220830T200000Z
DTEND:20220831T000000Z
X-MICROSOFT-CDO-ALLDAYEVENT:FALSE
SUMMARY:Open House !
DESCRIPTION:Please join us for an open house at Collaborative Solutions\, LLC. The open house will include information about Applied Behavior Analysis and a tour of the building.
X-ALT-DESC;FMTTYPE=text/html:Please join us for an open house at Collaborative Solutions\, LLC. The open house will include information about Applied Behavior Analysis and a tour of the building.
LOCATION:1307 N Main St. Suite A Mitchell\, SD 57301
UID:e.1624.32688
SEQUENCE:3
DTSTAMP:20260421T201825Z
URL:https://business.mitchellchamber.com/events/details/open-house-08-30-2022-32688
END:VEVENT

END:VCALENDAR
