BEGIN:VCALENDAR
VERSION:2.0
PRODID:-//ChamberMaster//Event Calendar 2.0//EN
METHOD:PUBLISH
X-PUBLISHED-TTL:P3D
REFRESH-INTERVAL:P3D
CALSCALE:GREGORIAN
BEGIN:VEVENT
DTSTART:20220421T143000Z
DTEND:20220421T144500Z
X-MICROSOFT-CDO-ALLDAYEVENT:FALSE
SUMMARY:Online Thursday Storytime
DESCRIPTION:You're invited to a short\, online Storytime on Thursday\, April 21 at 9:30am on the Mitchell Public Library Facebook Page. Your children will get to join Ms. Jean and Gilly as they say the Bread & Butter rhyme and shake the Treasure Chest. Ms. Jean will also read a story. Questions? Please call Jean Patrick\, Children's Librarian: 605-995-8480.
X-ALT-DESC;FMTTYPE=text/html:<span style="background-color:rgb(255\, 255\, 255)\; color:rgb(51\, 51\, 51)\; font-family:source sans pro\; font-size:15.2px">You&#39\;re invited to a short\, online Storytime on Thursday\, April 21 at 9:30am on the Mitchell Public Library Facebook Page. Your children will get to join Ms. Jean and Gilly as they say the Bread &amp\; Butter rhyme and shake the Treasure Chest. Ms. Jean will also read a story. Questions? Please call Jean Patrick\, Children&#39\;s Librarian: 605-995-8480.</span>
LOCATION:Mitchell Public Library Facebook Page
UID:e.1624.32480
SEQUENCE:3
DTSTAMP:20260422T032623Z
URL:https://business.mitchellchamber.com/events/details/online-thursday-storytime-04-21-2022-32480
END:VEVENT

END:VCALENDAR
