BEGIN:VCALENDAR
VERSION:2.0
PRODID:-//ChamberMaster//Event Calendar 2.0//EN
METHOD:PUBLISH
X-PUBLISHED-TTL:P3D
REFRESH-INTERVAL:P3D
CALSCALE:GREGORIAN
BEGIN:VEVENT
DTSTART:20141003T220000Z
DTEND:20141004T010000Z
X-MICROSOFT-CDO-ALLDAYEVENT:FALSE
SUMMARY:OktoBEERfest
DESCRIPTION:OktoBEERfest is the annual event where you get the chance to taste over 50 beers!  Come join the fun of beer tastings\, brat bar\, music\, and games!  There will be silent and live auctions for great items with the proceeds going toward Make-A-Wish South Dakota.
X-ALT-DESC;FMTTYPE=text/html:OktoBEERfest is the annual event where you get the chance to taste over 50 beers!&nbsp\; Come join the fun of beer tastings\, brat bar\, music\, and games!&nbsp\; There will be silent and live auctions for great items with the proceeds going toward Make-A-Wish South Dakota.
LOCATION:Highland Conference Center
UID:e.1624.1216
SEQUENCE:3
DTSTAMP:20260419T154111Z
URL:https://business.mitchellchamber.com/events/details/oktobeerfest-10-03-2014-1216
END:VEVENT

END:VCALENDAR
