BEGIN:VCALENDAR
VERSION:2.0
PRODID:-//ChamberMaster//Event Calendar 2.0//EN
METHOD:PUBLISH
X-PUBLISHED-TTL:P3D
REFRESH-INTERVAL:P3D
CALSCALE:GREGORIAN
BEGIN:VEVENT
DTSTART:20230628T230000Z
DTEND:20230628T234500Z
X-MICROSOFT-CDO-ALLDAYEVENT:FALSE
SUMMARY:Noise Guy\, Charlie Williams
DESCRIPTION:Do your kids love to make noise? Come to The Noise Guy (Charlie Williams) on Wed. June 28 at 10:30am AND 6pm at the Corn Palace Plaza Charlie uses amazing\, realistic vocal imitations during his literacy programs that will inspire children to become roaring readers. This event is part of the Mitchell Public Library Summer Reading Program. Everyone is invited to attend this free event.
X-ALT-DESC;FMTTYPE=text/html:Do your kids love to make noise? Come to The Noise Guy (Charlie Williams) on Wed. June 28 at 10:30am AND 6pm at the Corn Palace Plaza Charlie uses amazing\, realistic vocal imitations during his literacy programs that will inspire children to become roaring readers. This event is part of the Mitchell Public Library Summer Reading Program. Everyone is invited to attend this free event.
LOCATION:Corn Palace Plaza 604 N. Main
UID:e.1624.34389
SEQUENCE:3
DTSTAMP:20260421T072325Z
URL:https://business.mitchellchamber.com/events/details/noise-guy-charlie-williams-34389
END:VEVENT

END:VCALENDAR
