BEGIN:VCALENDAR
VERSION:2.0
PRODID:-//ChamberMaster//Event Calendar 2.0//EN
METHOD:PUBLISH
X-PUBLISHED-TTL:P3D
REFRESH-INTERVAL:P3D
CALSCALE:GREGORIAN
BEGIN:VEVENT
DTSTART:20220513T190000Z
DTEND:20220513T210000Z
X-MICROSOFT-CDO-ALLDAYEVENT:FALSE
SUMMARY:Noel Hamiel "South Dakota's Mathis Murders"
DESCRIPTION:Noel Hamiel speaks about the "South Dakota's Mathis Murders." Book signing for those who have purchased the book. Books will NOT be sold.
X-ALT-DESC;FMTTYPE=text/html:Noel Hamiel speaks about the &quot\;South Dakota&#39\;s Mathis Murders.&quot\; Book signing for those who have purchased the book. Books will NOT be sold.
LOCATION:Carnegie Resource Center 119 West 3rd Ave. Mitchell\, South Dakota
UID:e.1624.32512
SEQUENCE:3
DTSTAMP:20260422T014228Z
URL:https://business.mitchellchamber.com/events/details/noel-hamiel-south-dakota-s-mathis-murders-32512
END:VEVENT

END:VCALENDAR
