BEGIN:VCALENDAR
VERSION:2.0
PRODID:-//ChamberMaster//Event Calendar 2.0//EN
METHOD:PUBLISH
X-PUBLISHED-TTL:P3D
REFRESH-INTERVAL:P3D
CALSCALE:GREGORIAN
BEGIN:VEVENT
DTSTART:20140211T180000Z
DTEND:20140211T190000Z
X-MICROSOFT-CDO-ALLDAYEVENT:FALSE
SUMMARY:Networking Lunch - State of the City with Mayor Ken Tracy
DESCRIPTION:Mayor Ken Tracy will share with us the State of the City.  What are they working on\, what is getting completed\, and what do they hope to accomplish for the future?  Meet with the Mayor and other professionals for lunch at the Ramada Inn and Suites at 12pm on Tuesday\, February 11.  Lunch is on your own.  There will be a limited menu available.  Please register by clicking the link above or emailing rebecca@mitchellchamber.com.
X-ALT-DESC;FMTTYPE=text/html:Mayor Ken Tracy will share with us the State of the City.&nbsp\; What are they working on\, what is getting completed\, and what do they hope to accomplish for the future?&nbsp\; Meet with the Mayor and other professionals for lunch at the Ramada Inn and Suites at 12pm on Tuesday\, February 11.&nbsp\; Lunch is on your own.&nbsp\; There will be a limited menu available.&nbsp\; Please register by clicking the link above or emailing rebecca@mitchellchamber.com.
LOCATION:Ramada Inn and Suites\, Oleander Room
UID:e.1624.1102
SEQUENCE:3
DTSTAMP:20260421T235354Z
URL:https://business.mitchellchamber.com/events/details/networking-lunch-state-of-the-city-with-mayor-ken-tracy-02-11-2014-1102
END:VEVENT

END:VCALENDAR
