BEGIN:VCALENDAR
VERSION:2.0
PRODID:-//ChamberMaster//Event Calendar 2.0//EN
METHOD:PUBLISH
X-PUBLISHED-TTL:P3D
REFRESH-INTERVAL:P3D
CALSCALE:GREGORIAN
BEGIN:VEVENT
DTSTART:20140414T170000Z
DTEND:20140414T180000Z
X-MICROSOFT-CDO-ALLDAYEVENT:FALSE
SUMMARY:Networking Lunch - Corn Palace Renovations
DESCRIPTION:Jacki Miskimins\, Director of the Convention and Visitor's Bureau\, will present the approved plans for the upcoming Corn Palace Renovations\, slated to begin in May.  Lunch will be available at the Corn Palace Concessions stand and a tour will follow the presentation to get a first hand glimpse of what things will be changing!\n\n\n\nPlease register for this lunch by clicking on the "Register Online" link.
X-ALT-DESC;FMTTYPE=text/html:Jacki Miskimins\, Director of the Convention and Visitor&#39\;s Bureau\, will present the approved plans for the upcoming Corn Palace Renovations\, slated to begin in May.&nbsp\; Lunch will be available at the Corn Palace Concessions stand and a tour will follow the presentation to get a first hand glimpse of what things will be changing!<br />\n<br />\nPlease register for this lunch by clicking on the &quot\;Register Online&quot\; link.
LOCATION:Corn Palace\, Concessions area
UID:e.1624.1142
SEQUENCE:3
DTSTAMP:20260421T201841Z
URL:https://business.mitchellchamber.com/events/details/networking-lunch-corn-palace-renovations-04-14-2014-1142
END:VEVENT

END:VCALENDAR
