BEGIN:VCALENDAR
VERSION:2.0
PRODID:-//ChamberMaster//Event Calendar 2.0//EN
METHOD:PUBLISH
X-PUBLISHED-TTL:P3D
REFRESH-INTERVAL:P3D
CALSCALE:GREGORIAN
BEGIN:VEVENT
DTSTART:20140310T170000Z
DTEND:20140310T180000Z
X-MICROSOFT-CDO-ALLDAYEVENT:FALSE
SUMMARY:Networking Lunch - Casual Chat
DESCRIPTION:Join us for our monthly Networking Lunch!  We are just having a casual chat among attendees this month - no speaker!  So come on out and get to know those people you have been sitting next to each month!
X-ALT-DESC;FMTTYPE=text/html:Join us for our monthly Networking Lunch!&nbsp\; We are just having a casual chat among attendees this month - no speaker!&nbsp\; So come on out and get to know those people you have been sitting next to each month!
LOCATION:Scoreboard Pub & Grille\, 522 N. Main St.
UID:e.1624.1121
SEQUENCE:3
DTSTAMP:20260421T220959Z
URL:https://business.mitchellchamber.com/events/details/networking-lunch-casual-chat-03-10-2014-1121
END:VEVENT

END:VCALENDAR
