BEGIN:VCALENDAR
VERSION:2.0
PRODID:-//ChamberMaster//Event Calendar 2.0//EN
METHOD:PUBLISH
X-PUBLISHED-TTL:P3D
REFRESH-INTERVAL:P3D
CALSCALE:GREGORIAN
BEGIN:VEVENT
DTSTART:20140113T180000Z
DTEND:20140113T190000Z
X-MICROSOFT-CDO-ALLDAYEVENT:FALSE
SUMMARY:Networking Lunch - Balance Your Life
DESCRIPTION:Join The Network for the January lunch at Ramada Inn and Suites.  We will be hosting a panel of local professionals to speak to how they balance their busy professional lives with that of their families and personal interests.  Panelists will be Anne Kelly\, Professor of Psychology at Dakota Wesleyan University\; Jesse Weins\, Assistant Professor of Criminal Justice at Dakota Wesleyan University\; and Mark Puetz\, Project Coordinator\, Sales & Marketing at Puetz Corporation.\n\n\n\nThere will be a limited menu to select from and lunch is on your own.  The menu available for the day includes:\n\nCheeseburger and side\n\nFrench Dip and side\n\nChicken wrap and side\n\nChef Salad\n\nPatty Melt with side\n\nSoup/Salad\n\nTaco Salad\n\n\n\nContact Rebecca at 996-5567 or email rebecca@mitchellchamber.com by January 10 to reserve your spot.
X-ALT-DESC;FMTTYPE=text/html:Join The Network for the January lunch at Ramada Inn and Suites.&nbsp\; We will be hosting a panel of local professionals to speak to how they balance their busy professional lives with that of their families and personal interests.&nbsp\; Panelists will be Anne Kelly\, Professor of Psychology at Dakota Wesleyan University\; Jesse Weins\, Assistant Professor of Criminal Justice at Dakota Wesleyan University\; and Mark Puetz\, Project Coordinator\, Sales &amp\; Marketing at Puetz Corporation.<br />\n<br />\nThere will be a limited menu to select from and lunch is on your own.&nbsp\; The menu available for the day includes:<br />\nCheeseburger and side<br />\nFrench Dip and side<br />\nChicken wrap and side<br />\nChef Salad<br />\nPatty Melt with side<br />\nSoup/Salad<br />\nTaco Salad<br />\n<br />\nContact Rebecca at 996-5567 or email rebecca@mitchellchamber.com by January 10 to reserve your spot.
LOCATION:Ramada Inn and Suites
UID:e.1624.1096
SEQUENCE:3
DTSTAMP:20260422T014347Z
URL:https://business.mitchellchamber.com/events/details/networking-lunch-balance-your-life-01-13-2014-1096
END:VEVENT

END:VCALENDAR
