BEGIN:VCALENDAR
VERSION:2.0
PRODID:-//ChamberMaster//Event Calendar 2.0//EN
METHOD:PUBLISH
X-PUBLISHED-TTL:P3D
REFRESH-INTERVAL:P3D
CALSCALE:GREGORIAN
BEGIN:VEVENT
DTSTART:20150627T163000Z
DTEND:20150627T170000Z
X-MICROSOFT-CDO-ALLDAYEVENT:FALSE
SUMMARY:Neil Epp Memorial Poker Run
DESCRIPTION:Poker run benefiting Mitchell Animal Rescue. Registration starts at 11:30 am
X-ALT-DESC;FMTTYPE=text/html:Poker run benefiting Mitchell Animal Rescue. Registration starts at 11:30 am
LOCATION:County Fair Banquet Hall
UID:e.1624.1369
SEQUENCE:3
DTSTAMP:20260425T110557Z
URL:https://business.mitchellchamber.com/events/details/neil-epp-memorial-poker-run-06-27-2015-1369
END:VEVENT

END:VCALENDAR
