BEGIN:VCALENDAR
VERSION:2.0
PRODID:-//ChamberMaster//Event Calendar 2.0//EN
METHOD:PUBLISH
X-PUBLISHED-TTL:P3D
REFRESH-INTERVAL:P3D
CALSCALE:GREGORIAN
BEGIN:VEVENT
DTSTART:20171026T163000Z
DTEND:20171026T180000Z
X-MICROSOFT-CDO-ALLDAYEVENT:FALSE
SUMMARY:My Biggest Break Luncheon
DESCRIPTION:Listen to some of Mitchell's finest business leaders tell their story.  Featured speakers are Ryan Huber and Trish Bates. $10 per person- $5 discount for Network Members (includes lunch from Cornerstone Coffeehouse and Deli)
X-ALT-DESC;FMTTYPE=text/html:Listen to some of Mitchell's finest business leaders tell their story. &nbsp\;Featured speakers are Ryan Huber and Trish Bates. $10 per person- $5 discount for Network Members (includes lunch from Cornerstone Coffeehouse and Deli)&nbsp\;
LOCATION:This event will be at the Logan Luxury Theatres.
UID:e.1624.9092
SEQUENCE:3
DTSTAMP:20260426T013723Z
URL:https://business.mitchellchamber.com/events/details/my-biggest-break-luncheon-9092
END:VEVENT

END:VCALENDAR
