BEGIN:VCALENDAR
VERSION:2.0
PRODID:-//ChamberMaster//Event Calendar 2.0//EN
METHOD:PUBLISH
X-PUBLISHED-TTL:P3D
REFRESH-INTERVAL:P3D
CALSCALE:GREGORIAN
BEGIN:VEVENT
DTSTART:20181110T150000Z
DTEND:20181110T210000Z
X-MICROSOFT-CDO-ALLDAYEVENT:FALSE
SUMMARY:MVP Holiday Vendor & Craft Show
DESCRIPTION:Our annual show will be featuring over 35 booths with a variety of products available. The JVCC members will also be holding a lunch concession and bake sale with tons of home made goodies! Make sure to get your holiday shopping done at this event!
X-ALT-DESC;FMTTYPE=text/html:Our annual show will be featuring over 35 booths with a variety of products available. The JVCC members will also be holding a lunch concession and bake sale with tons of home made goodies! Make sure to get your holiday shopping done at this event!
LOCATION:James Valley Community Center 300 W 1st Ave Mitchell\, SD 57301
UID:e.1624.19381
SEQUENCE:3
DTSTAMP:20260425T040144Z
URL:https://business.mitchellchamber.com/events/details/mvp-holiday-vendor-craft-show-19381
END:VEVENT

END:VCALENDAR
