BEGIN:VCALENDAR
VERSION:2.0
PRODID:-//ChamberMaster//Event Calendar 2.0//EN
METHOD:PUBLISH
X-PUBLISHED-TTL:P3D
REFRESH-INTERVAL:P3D
CALSCALE:GREGORIAN
BEGIN:VEVENT
DTSTART:20220922T220000Z
DTEND:20220923T000000Z
X-MICROSOFT-CDO-ALLDAYEVENT:FALSE
SUMMARY:Mix & Mingle @ Vern Eide Ford
DESCRIPTION:Please join the Mitchell Area Chamber of Commerce's Connect Mitchell Committee for another Mix & Mingle hosted by Vern Eide Ford! \n\n\n\nJoin us Thursday\, September 22\, 2022 from 5-7 p.m. at the Vern Eide Ford store located at 2300 N Main St in Mitchell for door prizes\, food\, drinks and more!
X-ALT-DESC;FMTTYPE=text/html:Please join the Mitchell Area Chamber of Commerce&#39\;s <em>Connect Mitchell Committee</em> for another Mix &amp\; Mingle hosted by Vern Eide Ford!&nbsp\;<br />\n<br />\nJoin us Thursday\, September 22\, 2022 from 5-7 p.m. at the Vern Eide Ford store located at 2300 N Main St in Mitchell for door prizes\, food\, drinks and more!
LOCATION:Vern Eide Ford 2300 N Main St Mitchell\, SD 57301
UID:e.1624.32694
SEQUENCE:3
DTSTAMP:20260421T183812Z
URL:https://business.mitchellchamber.com/events/details/mix-mingle-vern-eide-ford-32694
END:VEVENT

END:VCALENDAR
