BEGIN:VCALENDAR
VERSION:2.0
PRODID:-//ChamberMaster//Event Calendar 2.0//EN
METHOD:PUBLISH
X-PUBLISHED-TTL:P3D
REFRESH-INTERVAL:P3D
CALSCALE:GREGORIAN
BEGIN:VEVENT
DTSTART:20221006T220000Z
DTEND:20221007T000000Z
X-MICROSOFT-CDO-ALLDAYEVENT:FALSE
SUMMARY:Mix & Mingle @ Morgan Theeler & Resolve
DESCRIPTION:Please join the Mitchell Area Chamber of Commerce's Connect Mitchell Committee for another Mix & Mingle hosted this month by Morgan Theeler and Resolve!\n\n\n\nJoin us Thursday\, October 6\, 2022 from 5-7 p.m. at their second location on the corner of Havens and Burr at 714 South Burr. There will be food\, drinks\, giveaways\, and more!
X-ALT-DESC;FMTTYPE=text/html:Please join the Mitchell Area Chamber of Commerce&#39\;s&nbsp\;<em>Connect Mitchell Committee</em>&nbsp\;for another Mix &amp\; Mingle hosted this month by Morgan Theeler and Resolve!<br />\n<br />\nJoin us Thursday\, October 6\, 2022 from 5-7 p.m. at their second location on the corner of Havens and Burr at 714 South Burr. There will be food\, drinks\, giveaways\, and more!
LOCATION:Morgan Theeler & Resolve 714 South Burr Mitchell\, SD 57301
UID:e.1624.32738
SEQUENCE:3
DTSTAMP:20260421T170258Z
URL:https://business.mitchellchamber.com/events/details/mix-mingle-morgan-theeler-resolve-32738
END:VEVENT

END:VCALENDAR
