BEGIN:VCALENDAR
VERSION:2.0
PRODID:-//ChamberMaster//Event Calendar 2.0//EN
METHOD:PUBLISH
X-PUBLISHED-TTL:P3D
REFRESH-INTERVAL:P3D
CALSCALE:GREGORIAN
BEGIN:VEVENT
DTSTART:20220331T220000Z
DTEND:20220401T000000Z
X-MICROSOFT-CDO-ALLDAYEVENT:FALSE
SUMMARY:Mix & Mingle hosted by Mitchell Area Chamber of Commerce
DESCRIPTION:Join us for a Mix & Mingle! The Mitchell Area Chamber of Commerce Connect Mitchell Committee will be hosting a Mix & Mingle on Thursday\, March 31 from 5 - 7 p.m. at the Mitchell Chamber office at 601 N Main St\, Mitchell. \n\n\n\nHelp us welcome our new staff. Join us for hors d'oeuvres\, beverages\, door prizes\, networking\, and more!
X-ALT-DESC;FMTTYPE=text/html:Join us for a Mix &amp\; Mingle! The Mitchell Area Chamber of Commerce Connect Mitchell Committee will be hosting a Mix &amp\; Mingle on Thursday\, March 31 from 5 - 7 p.m. at the Mitchell Chamber office at 601 N Main St\, Mitchell.&nbsp\;<br />\n<br />\nHelp us welcome our new staff. Join us for hors d&#39\;oeuvres\, beverages\, door prizes\, networking\, and more!
LOCATION:601 N Main Street Mitchell\, SD57301
UID:e.1624.32144
SEQUENCE:3
DTSTAMP:20260422T002011Z
URL:https://business.mitchellchamber.com/events/details/mix-mingle-hosted-by-mitchell-area-chamber-of-commerce-32144
END:VEVENT

END:VCALENDAR
