BEGIN:VCALENDAR
VERSION:2.0
PRODID:-//ChamberMaster//Event Calendar 2.0//EN
METHOD:PUBLISH
X-PUBLISHED-TTL:P3D
REFRESH-INTERVAL:P3D
CALSCALE:GREGORIAN
BEGIN:VEVENT
DTSTART:20140916T220000Z
DTEND:20140917T000000Z
X-MICROSOFT-CDO-ALLDAYEVENT:FALSE
SUMMARY:Mix & Mingle - Goodwill
DESCRIPTION:Join us for a Mix & Mingle at Goodwill Industries\, located at 1415 W. Havens St.\, Mitchell.
X-ALT-DESC;FMTTYPE=text/html:Join us for a Mix &amp\; Mingle at Goodwill Industries\, located at 1415 W. Havens St.\, Mitchell.&nbsp\;
LOCATION:Goodwill Industries\, 1415 W. Havens St.\, Mitchell
UID:e.1624.1116
SEQUENCE:3
DTSTAMP:20260421T113606Z
URL:https://business.mitchellchamber.com/events/details/mix-mingle-goodwill-09-16-2014-1116
END:VEVENT

END:VCALENDAR
