BEGIN:VCALENDAR
VERSION:2.0
PRODID:-//ChamberMaster//Event Calendar 2.0//EN
METHOD:PUBLISH
X-PUBLISHED-TTL:P3D
REFRESH-INTERVAL:P3D
CALSCALE:GREGORIAN
BEGIN:VEVENT
DTSTART:20140812T220000Z
DTEND:20140813T000000Z
X-MICROSOFT-CDO-ALLDAYEVENT:FALSE
SUMMARY:Mix & Mingle - Edgerton Place Apartments
DESCRIPTION:More information to come.
X-ALT-DESC;FMTTYPE=text/html:More information to come.
LOCATION:
UID:e.1624.1114
SEQUENCE:3
DTSTAMP:20260421T132052Z
URL:https://business.mitchellchamber.com/events/details/mix-mingle-edgerton-place-apartments-08-12-2014-1114
END:VEVENT

END:VCALENDAR
