BEGIN:VCALENDAR
VERSION:2.0
PRODID:-//ChamberMaster//Event Calendar 2.0//EN
METHOD:PUBLISH
X-PUBLISHED-TTL:P3D
REFRESH-INTERVAL:P3D
CALSCALE:GREGORIAN
BEGIN:VEVENT
DTSTART:20220721T203000Z
DTEND:20220721T230000Z
X-MICROSOFT-CDO-ALLDAYEVENT:FALSE
SUMMARY:Mix & Mingle @ Bankwest
DESCRIPTION:Connect Mitchell and BankWest will be hosting a Mix & Mingle to celebrate 20 years of BankWest being in Mitchell. They will be hosting the event with their two tenants\, Two Dreams Boutique & Fika\, at the North location at 1920 N Sanborn Blvd.
X-ALT-DESC;FMTTYPE=text/html:<em>Connect Mitchell</em> and BankWest will be hosting a Mix &amp\; Mingle to celebrate 20 years of BankWest being in Mitchell. They will be hosting the event with their two tenants\, Two Dreams Boutique &amp\; Fika\, at the North location at 1920 N Sanborn Blvd.&nbsp\;&nbsp\;
LOCATION:BankWest 1920 N Sanborn Blvd Mitchell\, SD 57301
UID:e.1624.32652
SEQUENCE:3
DTSTAMP:20260421T220958Z
URL:https://business.mitchellchamber.com/events/details/mix-mingle-bankwest-32652
END:VEVENT

END:VCALENDAR
