BEGIN:VCALENDAR
VERSION:2.0
PRODID:-//ChamberMaster//Event Calendar 2.0//EN
METHOD:PUBLISH
X-PUBLISHED-TTL:P3D
REFRESH-INTERVAL:P3D
CALSCALE:GREGORIAN
BEGIN:VEVENT
DTSTART:20140610T220000Z
DTEND:20140611T000000Z
X-MICROSOFT-CDO-ALLDAYEVENT:FALSE
SUMMARY:Mix & Mingle - Avera Health Plans
DESCRIPTION:Join us for Avera Health Plans' Mix & Mingle! Enjoy refreshments and some fun games as they celebrate 15 years in Mitchell and a new location across from the Davison County Courthouse.  Plan to Mix & Mingle outside for this event!  A ribbon cutting will be held prior to the Mix & Mingle at 4:45pm.
X-ALT-DESC;FMTTYPE=text/html:Join us for Avera Health Plans&#39\; Mix &amp\; Mingle! Enjoy refreshments and some fun games as they celebrate 15 years in Mitchell and a new location across from the Davison County Courthouse.&nbsp\; Plan to Mix &amp\; Mingle outside for this event!&nbsp\; A ribbon cutting will be held prior to the Mix &amp\; Mingle at 4:45pm.
LOCATION:209 E. 4th Ave.\, Mitchell
UID:e.1624.1113
SEQUENCE:3
DTSTAMP:20260421T170647Z
URL:https://business.mitchellchamber.com/events/details/mix-mingle-avera-health-plans-06-10-2014-1113
END:VEVENT

END:VCALENDAR
