BEGIN:VCALENDAR
VERSION:2.0
PRODID:-//ChamberMaster//Event Calendar 2.0//EN
METHOD:PUBLISH
X-PUBLISHED-TTL:P3D
REFRESH-INTERVAL:P3D
CALSCALE:GREGORIAN
BEGIN:VEVENT
DTSTART:20171024T220000Z
DTEND:20171025T000000Z
X-MICROSOFT-CDO-ALLDAYEVENT:FALSE
SUMMARY:Mix and Mingle hosted by the Mitchell Area Charitable Foundation
DESCRIPTION:Join us for a Mix & Mingle celebration!!!\n\n\n\nThe Mitchell Area Charitable Foundation will be hosting a Mix & Mingle event.  The final drawing for the Reverse Raffle will take place during this event.
X-ALT-DESC;FMTTYPE=text/html:Join us for a Mix &amp\; Mingle celebration!!!<br />\n<br />\nThe Mitchell Area Charitable Foundation will be hosting a Mix &amp\; Mingle event.&nbsp\; The final drawing for the Reverse Raffle will take place during this event.&nbsp\;&nbsp\;<br />\n<br />\n&nbsp\;
LOCATION:BankWest 1920 N Sanborn St Mitchell\, SD
UID:e.1624.9091
SEQUENCE:3
DTSTAMP:20260426T012402Z
URL:https://business.mitchellchamber.com/events/details/mix-and-mingle-hosted-by-the-mitchell-area-charitable-foundation-9091
END:VEVENT

END:VCALENDAR
