BEGIN:VCALENDAR
VERSION:2.0
PRODID:-//ChamberMaster//Event Calendar 2.0//EN
METHOD:PUBLISH
X-PUBLISHED-TTL:P3D
REFRESH-INTERVAL:P3D
CALSCALE:GREGORIAN
BEGIN:VEVENT
DTSTART:20220412T210000Z
DTEND:20220413T010000Z
X-MICROSOFT-CDO-ALLDAYEVENT:FALSE
SUMMARY:Mitchell Varsity Track and Field Triangular
DESCRIPTION:Mitchell Varsity Track and Field Triangular\n\n\n\nSchools include: Brandon Valley & Yankton
X-ALT-DESC;FMTTYPE=text/html:Mitchell Varsity Track and Field Triangular<br />\n<br />\nSchools include: Brandon Valley &amp\; Yankton
LOCATION:Joe Quintal Field Mitchell\, South Dakota
UID:e.1624.32051
SEQUENCE:3
DTSTAMP:20260422T030813Z
URL:https://business.mitchellchamber.com/events/details/mitchell-varsity-track-and-field-triangular-32051
END:VEVENT

END:VCALENDAR
