BEGIN:VCALENDAR
VERSION:2.0
PRODID:-//ChamberMaster//Event Calendar 2.0//EN
METHOD:PUBLISH
X-PUBLISHED-TTL:P3D
REFRESH-INTERVAL:P3D
CALSCALE:GREGORIAN
BEGIN:VEVENT
DTSTART:20250220T150000Z
DTEND:20250220T213000Z
X-MICROSOFT-CDO-ALLDAYEVENT:FALSE
SUMMARY:Mitchell Technical College Career Fair
DESCRIPTION:Employers\, join us at Mitchell Tech's Career Fairs on February 20th! Connect with top talent in agriculture\, trades\, business\, nursing\, and more.
X-ALT-DESC;FMTTYPE=text/html:<span style="color: rgb(8\, 8\, 9)\; font-family: &quot\;Segoe UI Historic&quot\;\, &quot\;Segoe UI&quot\;\, Helvetica\, Arial\, sans-serif\; font-size: 15px\; white-space-collapse: preserve\;">Employers\, join us at Mitchell Tech&rsquo\;s Career Fairs on February 20th! Connect with top talent in agriculture\, trades\, business\, nursing\, and more.</span>
LOCATION:Mitchell Technical College 1800 E Spruce St
UID:e.1624.39150
SEQUENCE:3
DTSTAMP:20260421T113519Z
URL:https://business.mitchellchamber.com/events/details/mitchell-technical-college-career-fair-39150
END:VEVENT

END:VCALENDAR
