BEGIN:VCALENDAR
VERSION:2.0
PRODID:-//ChamberMaster//Event Calendar 2.0//EN
METHOD:PUBLISH
X-PUBLISHED-TTL:P3D
REFRESH-INTERVAL:P3D
CALSCALE:GREGORIAN
BEGIN:VEVENT
DTSTART:20220721T003000Z
DTEND:20220721T030000Z
X-MICROSOFT-CDO-ALLDAYEVENT:FALSE
SUMMARY:Mitchell Municipal Band "South Dakota Night"
DESCRIPTION:Mitchell Municipal Band 2022 Concert Series\n\n\n\n"South Dakota Night"\n\n\n\nDirected by Brett Jacobson
X-ALT-DESC;FMTTYPE=text/html:Mitchell Municipal Band 2022 Concert Series<br />\n<br />\n&quot\;South Dakota Night&quot\;<br />\n<br />\nDirected by Brett Jacobson
LOCATION:Corn Palace Plaza 604 N. Main St. Mitchell\, South Dakota
UID:e.1624.32615
SEQUENCE:3
DTSTAMP:20260421T221450Z
URL:https://business.mitchellchamber.com/events/details/mitchell-municipal-band-south-dakota-night-32615
END:VEVENT

END:VCALENDAR
