BEGIN:VCALENDAR
VERSION:2.0
PRODID:-//ChamberMaster//Event Calendar 2.0//EN
METHOD:PUBLISH
X-PUBLISHED-TTL:P3D
REFRESH-INTERVAL:P3D
CALSCALE:GREGORIAN
BEGIN:VEVENT
DTSTART:20220714T003000Z
DTEND:20220714T030000Z
X-MICROSOFT-CDO-ALLDAYEVENT:FALSE
SUMMARY:Mitchell Municipal Band "Rodeo Night"
DESCRIPTION:Mitchell Municipal Band 2022 Concert Series\n\n\n\n"Rodeo Night"\n\n\n\nFeaturing Mission Essential Brass (a brass group with the 147th Army Band)\n\n\n\nDirected by Joel Van Peursem
X-ALT-DESC;FMTTYPE=text/html:Mitchell Municipal Band 2022 Concert Series<br />\n<br />\n&quot\;Rodeo Night&quot\;<br />\n<br />\nFeaturing Mission Essential Brass (a brass group with the 147th Army Band)<br />\n<br />\nDirected by Joel Van Peursem
LOCATION:Hitchcock Park Band Shell 1201 E. Hanson Ave. Mitchell\, South Dakota
UID:e.1624.32614
SEQUENCE:3
DTSTAMP:20260421T221130Z
URL:https://business.mitchellchamber.com/events/details/mitchell-municipal-band-rodeo-night-32614
END:VEVENT

END:VCALENDAR
