BEGIN:VCALENDAR
VERSION:2.0
PRODID:-//ChamberMaster//Event Calendar 2.0//EN
METHOD:PUBLISH
X-PUBLISHED-TTL:P3D
REFRESH-INTERVAL:P3D
CALSCALE:GREGORIAN
BEGIN:VEVENT
DTSTART:20220616T003000Z
DTEND:20220616T030000Z
X-MICROSOFT-CDO-ALLDAYEVENT:FALSE
SUMMARY:Mitchell Municipal Band "Marching Into Summer"
DESCRIPTION:Mitchell Municipal Band 2022 Concert Series\n\n\n\n"Marching Into Summer"\n\n\n\nDirected by Kim Bruguier
X-ALT-DESC;FMTTYPE=text/html:Mitchell Municipal Band 2022 Concert Series<br />\n<br />\n&quot\;Marching Into Summer&quot\;<br />\n<br />\nDirected by Kim Bruguier
LOCATION:Hitchcock Park Band Shell 1201 E. Hanson Ave. Mitchell\, South Dakota
UID:e.1624.32610
SEQUENCE:3
DTSTAMP:20260421T234912Z
URL:https://business.mitchellchamber.com/events/details/mitchell-municipal-band-marching-into-summer-32610
END:VEVENT

END:VCALENDAR
