BEGIN:VCALENDAR
VERSION:2.0
PRODID:-//ChamberMaster//Event Calendar 2.0//EN
METHOD:PUBLISH
X-PUBLISHED-TTL:P3D
REFRESH-INTERVAL:P3D
CALSCALE:GREGORIAN
BEGIN:VEVENT
DTSTART:20180726T003000Z
DTEND:20180726T020000Z
X-MICROSOFT-CDO-ALLDAYEVENT:FALSE
SUMMARY:Mitchell Municipal Band Concert
DESCRIPTION:Bring your lawn chair and enjoy as Joe Pekas and the Municipal Band bring smiles to your face and keep everyone tapping their toes with great music!\n\nEveryone Welcome!
X-ALT-DESC;FMTTYPE=text/html:<p>Bring your lawn chair and enjoy as Joe Pekas and the Municipal Band bring smiles to your face and keep everyone tapping their toes with great music!</p>\n\n<p>Everyone Welcome!</p>\n
LOCATION:Hitchcock Park In case of rain\, concerts will be held at Firesteel Health Care Center July 4th performance at Dakota Discovery Museum Dakota Discovery Museum 1300 McGovern Ave Mitchell\, SD 57301
UID:e.1624.15656
SEQUENCE:3
DTSTAMP:20260425T110936Z
URL:https://business.mitchellchamber.com/events/details/mitchell-municipal-band-concert-07-25-2018-15656
END:VEVENT

END:VCALENDAR
