BEGIN:VCALENDAR
VERSION:2.0
PRODID:-//ChamberMaster//Event Calendar 2.0//EN
METHOD:PUBLISH
X-PUBLISHED-TTL:P3D
REFRESH-INTERVAL:P3D
CALSCALE:GREGORIAN
BEGIN:VEVENT
DTSTART:20220728T003000Z
DTEND:20220728T030000Z
X-MICROSOFT-CDO-ALLDAYEVENT:FALSE
SUMMARY:Mitchell Municipal Band "A Night at the Movies"
DESCRIPTION:Mitchell Municipal Band 2022 Concert Series\n\n\n\n"A Night at the Movies"\n\n\n\nDirected by Bethany Amundson
X-ALT-DESC;FMTTYPE=text/html:Mitchell Municipal Band 2022 Concert Series<br />\n<br />\n&quot\;A Night at the Movies&quot\;<br />\n<br />\nDirected by Bethany Amundson
LOCATION:Hitchcock Park Bandstand 1201 E. Hanson Ave. Mitchell\, South Dakota
UID:e.1624.32616
SEQUENCE:3
DTSTAMP:20260421T221530Z
URL:https://business.mitchellchamber.com/events/details/mitchell-municipal-band-a-night-at-the-movies-32616
END:VEVENT

END:VCALENDAR
