BEGIN:VCALENDAR
VERSION:2.0
PRODID:-//ChamberMaster//Event Calendar 2.0//EN
METHOD:PUBLISH
X-PUBLISHED-TTL:P3D
REFRESH-INTERVAL:P3D
CALSCALE:GREGORIAN
BEGIN:VEVENT
DTSTART:20240413T153000Z
DTEND:20240413T180000Z
X-MICROSOFT-CDO-ALLDAYEVENT:FALSE
SUMMARY:Mitchell Moose Lodge Luncheon and Fashion Show
DESCRIPTION:Join us for a fun filled day of Sandwiches\, Salads\, Desserts\, and Fashion Show. Doors open at 10:30 AM with meal starting at 11:30 AM. Reservations available at (605)630-1524 and walk-in's welcome.
X-ALT-DESC;FMTTYPE=text/html:Join us for a fun filled day of Sandwiches\, Salads\, Desserts\, and Fashion Show. Doors open at 10:30 AM with meal starting at 11:30 AM. Reservations available at (605)630-1524 and walk-in&rsquo\;s welcome.
LOCATION:Mitchell Moose Lodge 516 W 15th Ave
UID:e.1624.36243
SEQUENCE:3
DTSTAMP:20260420T065734Z
URL:https://business.mitchellchamber.com/events/details/mitchell-moose-lodge-luncheon-and-fashion-show-36243
END:VEVENT

END:VCALENDAR
