BEGIN:VCALENDAR
VERSION:2.0
PRODID:-//ChamberMaster//Event Calendar 2.0//EN
METHOD:PUBLISH
X-PUBLISHED-TTL:P3D
REFRESH-INTERVAL:P3D
CALSCALE:GREGORIAN
BEGIN:VEVENT
DTSTART;VALUE=DATE:20220505
DTEND;VALUE=DATE:20220506
TRANSP:TRANSPARENT
X-MICROSOFT-CDO-ALLDAYEVENT:TRUE
SUMMARY:Mitchell Middle School Varsity Boys Tennis ESD
DESCRIPTION:Mitchell Middle School Varsity Boys Tennis ESD\n\n\n\nTeams include: Aberdeen Central\, Brandon Valley\, Brookings\, Harrisburg\, Huron\, Pierre\, Watertown\, & Yankton
X-ALT-DESC;FMTTYPE=text/html:Mitchell Middle School Varsity Boys Tennis ESD<br />\n<br />\nTeams include: Aberdeen Central\, Brandon Valley\, Brookings\, Harrisburg\, Huron\, Pierre\, Watertown\, &amp\; Yankton
LOCATION:Hitchcock Park Mitchell\, South Dakota
UID:e.1624.32073
SEQUENCE:3
DTSTAMP:20260422T014051Z
URL:https://business.mitchellchamber.com/events/details/mitchell-middle-school-varsity-boys-tennis-esd-32073
END:VEVENT

END:VCALENDAR
