BEGIN:VCALENDAR
VERSION:2.0
PRODID:-//ChamberMaster//Event Calendar 2.0//EN
METHOD:PUBLISH
X-PUBLISHED-TTL:P3D
REFRESH-INTERVAL:P3D
CALSCALE:GREGORIAN
BEGIN:VEVENT
DTSTART:20220502T210000Z
DTEND:20220503T010000Z
X-MICROSOFT-CDO-ALLDAYEVENT:FALSE
SUMMARY:Mitchell Middle School Track and Field Triangular
DESCRIPTION:Mitchell Middle School Track and Field Triangular        \n\n\n\nTeams include: Aberdeen Central & Yankton
X-ALT-DESC;FMTTYPE=text/html:Mitchell Middle School Track and Field Triangular&nbsp\;&nbsp\;&nbsp\;&nbsp\;&nbsp\;&nbsp\;&nbsp\;&nbsp\;<br />\n<br />\nTeams include: Aberdeen Central &amp\; Yankton
LOCATION:Joe Quintal Field Mitchell\, South Dakota
UID:e.1624.32072
SEQUENCE:3
DTSTAMP:20260422T012757Z
URL:https://business.mitchellchamber.com/events/details/mitchell-middle-school-track-and-field-triangular-32072
END:VEVENT

END:VCALENDAR
