BEGIN:VCALENDAR
VERSION:2.0
PRODID:-//ChamberMaster//Event Calendar 2.0//EN
METHOD:PUBLISH
X-PUBLISHED-TTL:P3D
REFRESH-INTERVAL:P3D
CALSCALE:GREGORIAN
BEGIN:VEVENT
DTSTART;VALUE=DATE:20220517
DTEND;VALUE=DATE:20220518
TRANSP:TRANSPARENT
X-MICROSOFT-CDO-ALLDAYEVENT:TRUE
SUMMARY:Mitchell Middle School Girls Varsity ESD Golf Meet
DESCRIPTION:Mitchell Middle School Varsity Girls ESD Golf Meet
X-ALT-DESC;FMTTYPE=text/html:Mitchell Middle School Varsity Girls ESD Golf Meet
LOCATION:Lakeview Golf Course Mitchell\, South Dakota
UID:e.1624.32078
SEQUENCE:3
DTSTAMP:20260422T014229Z
URL:https://business.mitchellchamber.com/events/details/mitchell-middle-school-girls-varsity-esd-golf-meet-32078
END:VEVENT

END:VCALENDAR
