BEGIN:VCALENDAR
VERSION:2.0
PRODID:-//ChamberMaster//Event Calendar 2.0//EN
METHOD:PUBLISH
X-PUBLISHED-TTL:P3D
REFRESH-INTERVAL:P3D
CALSCALE:GREGORIAN
BEGIN:VEVENT
DTSTART:20220213T180000Z
DTEND:20220213T200000Z
X-MICROSOFT-CDO-ALLDAYEVENT:FALSE
SUMMARY:Mitchell Marlins Varsity Girls vs. Huron
DESCRIPTION:Huron at Mitchell Marlins Varsity Girls
X-ALT-DESC;FMTTYPE=text/html:Huron at Mitchell Marlins Varsity Girls
LOCATION:Mitchell Activities Center Toshiba Rink
UID:e.1624.32038
SEQUENCE:3
DTSTAMP:20260422T113827Z
URL:https://business.mitchellchamber.com/events/details/mitchell-marlins-varsity-girls-vs-huron-32038
END:VEVENT

END:VCALENDAR
