BEGIN:VCALENDAR
VERSION:2.0
PRODID:-//ChamberMaster//Event Calendar 2.0//EN
METHOD:PUBLISH
X-PUBLISHED-TTL:P3D
REFRESH-INTERVAL:P3D
CALSCALE:GREGORIAN
BEGIN:VEVENT
DTSTART:20231114T233000Z
DTEND:20231115T010000Z
X-MICROSOFT-CDO-ALLDAYEVENT:FALSE
SUMMARY:Mitchell Main Street Informational Meeting
DESCRIPTION:Join us for an Informational Meeting about Mitchell Main Street on Tuesday\, November 14th at 5:30pm! Learn about the Main Street BID (Business Improvement District)\, upcoming streetscape projects\, the next Window Art Contest\, and take a tour of the old Western Building (223 N Main Street). Anyone is welcome to attend this meeting to learn more about our Historic Main Street.
X-ALT-DESC;FMTTYPE=text/html:Join us for an Informational Meeting about Mitchell Main Street on Tuesday\, November 14th at 5:30pm! Learn about the Main Street BID (Business Improvement District)\, upcoming streetscape projects\, the next Window Art Contest\, and take a tour of the old Western Building (223 N Main Street). Anyone is welcome to attend this meeting to learn more about our Historic Main Street.
LOCATION:The Western Building 223 N Main Street Mitchell\, SD 57301
UID:e.1624.35099
SEQUENCE:3
DTSTAMP:20260420T142252Z
URL:https://business.mitchellchamber.com/events/details/mitchell-main-street-informational-meeting-11-14-2023-35099
END:VEVENT

END:VCALENDAR
