BEGIN:VCALENDAR
VERSION:2.0
PRODID:-//ChamberMaster//Event Calendar 2.0//EN
METHOD:PUBLISH
X-PUBLISHED-TTL:P3D
REFRESH-INTERVAL:P3D
CALSCALE:GREGORIAN
BEGIN:VEVENT
DTSTART:20180421T120000Z
DTEND:20180421T180000Z
X-MICROSOFT-CDO-ALLDAYEVENT:FALSE
SUMMARY:Mitchell Lion's Club Pancake Jamboree
DESCRIPTION:Mitchell Lion's Club Pancake Jamboree
X-ALT-DESC;FMTTYPE=text/html:Mitchell Lion&#39\;s Club Pancake Jamboree
LOCATION:John Paul II Elementary School 1510 W. Elm Ave-Mitchell
UID:e.1624.10537
SEQUENCE:3
DTSTAMP:20260425T161949Z
URL:https://business.mitchellchamber.com/events/details/mitchell-lion-s-club-pancake-jamboree-10537
END:VEVENT

END:VCALENDAR
