BEGIN:VCALENDAR
VERSION:2.0
PRODID:-//ChamberMaster//Event Calendar 2.0//EN
METHOD:PUBLISH
X-PUBLISHED-TTL:P3D
REFRESH-INTERVAL:P3D
CALSCALE:GREGORIAN
BEGIN:VEVENT
DTSTART:20220616T140000Z
DTEND:20220616T200000Z
X-MICROSOFT-CDO-ALLDAYEVENT:FALSE
SUMMARY:Mitchell Kernel Girls Basketball Summer Camp
DESCRIPTION:The summer camp is open to all girls entering grades K-12 at a cost of $40 per individual. If a family of two or more is signing up\, the cost will be $60. Scholarships are available if payment is an issue.\n\n\n\nThis camp will provide a great chance for girls to learn about the game of basketball and practice the skills needed to build a successful player and program.\n\n\n\nThe camp will be a mix of both fundamentals and competition-based drills. Each camper will receive a t-shirt on the second day and prizes will also be awarded on the final day of camp.
X-ALT-DESC;FMTTYPE=text/html:The summer camp is open to all girls entering grades K-12 at a cost of $40 per individual. If a family of two or more is signing up\, the cost will be $60. Scholarships are available if payment is an issue.<br />\n<br />\nThis camp will provide a great chance for girls to learn about the game of basketball and practice the skills needed to build a successful player and program.<br />\n<br />\nThe camp will be a mix of both fundamentals and competition-based drills. Each camper will receive a t-shirt on the second day and prizes will also be awarded on the final day of camp.<br />\n&nbsp\;
LOCATION:Mitchell High School Gym 920 N. Capital St. Mitchell\, South Dakota
UID:e.1624.32539
SEQUENCE:3
DTSTAMP:20260421T235055Z
URL:https://business.mitchellchamber.com/events/details/mitchell-kernel-girls-basketball-summer-camp-32539
END:VEVENT

END:VCALENDAR
