BEGIN:VCALENDAR
VERSION:2.0
PRODID:-//ChamberMaster//Event Calendar 2.0//EN
METHOD:PUBLISH
X-PUBLISHED-TTL:P3D
REFRESH-INTERVAL:P3D
CALSCALE:GREGORIAN
BEGIN:VEVENT
DTSTART:20220408T193000Z
DTEND:20220408T230000Z
X-MICROSOFT-CDO-ALLDAYEVENT:FALSE
SUMMARY:Mitchell High School Varsity Tennis Dual vs. St. Thomas More
DESCRIPTION:Boys Varsity Tennis Dual vs. St. Thomas More
X-ALT-DESC;FMTTYPE=text/html:Boys Varsity Tennis Dual vs. St. Thomas More
LOCATION:Hitchcock Park Mitchell\, South Dakota
UID:e.1624.32047
SEQUENCE:3
DTSTAMP:20260422T032711Z
URL:https://business.mitchellchamber.com/events/details/mitchell-high-school-varsity-tennis-dual-vs-st-thomas-more-32047
END:VEVENT

END:VCALENDAR
