BEGIN:VCALENDAR
VERSION:2.0
PRODID:-//ChamberMaster//Event Calendar 2.0//EN
METHOD:PUBLISH
X-PUBLISHED-TTL:P3D
REFRESH-INTERVAL:P3D
CALSCALE:GREGORIAN
BEGIN:VEVENT
DTSTART;VALUE=DATE:20220513
DTEND;VALUE=DATE:20220514
TRANSP:TRANSPARENT
X-MICROSOFT-CDO-ALLDAYEVENT:TRUE
SUMMARY:MItchell High School Varsity Girls Golf Invite
DESCRIPTION:Mitchell High School Varsity Girls Golf Invite\n\n\n\nTeams include: Pierre\, Rapid City Central\, Rapid City Stevens\, Sioux Falls Jefferson\, Sioux Falls Lincoln\, Sioux Falls Roosevelt\, Sioux Falls Washington\, Spearfish\, Sturgis\, Watertown\, Yankton\, Aberdeen Central\, Brandon Valley\, Brookings\, Harrisburg\, & Huron
X-ALT-DESC;FMTTYPE=text/html:Mitchell High School Varsity Girls Golf Invite<br />\n<br />\nTeams include: Pierre\, Rapid City Central\, Rapid City Stevens\, Sioux Falls Jefferson\, Sioux Falls Lincoln\, Sioux Falls Roosevelt\, Sioux Falls Washington\, Spearfish\, Sturgis\, Watertown\, Yankton\, Aberdeen Central\, Brandon Valley\, Brookings\, Harrisburg\, &amp\; Huron
LOCATION:Lakeview Golf Course Mitchell\, South Dakota
UID:e.1624.32077
SEQUENCE:3
DTSTAMP:20260422T014052Z
URL:https://business.mitchellchamber.com/events/details/mitchell-high-school-varsity-girls-golf-invite-32077
END:VEVENT

END:VCALENDAR
