BEGIN:VCALENDAR
VERSION:2.0
PRODID:-//ChamberMaster//Event Calendar 2.0//EN
METHOD:PUBLISH
X-PUBLISHED-TTL:P3D
REFRESH-INTERVAL:P3D
CALSCALE:GREGORIAN
BEGIN:VEVENT
DTSTART:20220429T000000Z
DTEND:20220429T030000Z
X-MICROSOFT-CDO-ALLDAYEVENT:FALSE
SUMMARY:Mitchell High School Spring Play
DESCRIPTION:Spring Play "CLUE"
X-ALT-DESC;FMTTYPE=text/html:Spring Play &quot\;CLUE&quot\;
LOCATION:Mitchell Performing Arts Center - Gates Auditorium Mitchell\, South Dakota
UID:e.1624.32060
SEQUENCE:3
DTSTAMP:20260422T031225Z
URL:https://business.mitchellchamber.com/events/details/mitchell-high-school-spring-play-32060
END:VEVENT

END:VCALENDAR
