BEGIN:VCALENDAR
VERSION:2.0
PRODID:-//ChamberMaster//Event Calendar 2.0//EN
METHOD:PUBLISH
X-PUBLISHED-TTL:P3D
REFRESH-INTERVAL:P3D
CALSCALE:GREGORIAN
BEGIN:VEVENT
DTSTART:20260426T000000Z
DTEND:20260426T010000Z
X-MICROSOFT-CDO-ALLDAYEVENT:FALSE
SUMMARY:Mitchell High School Prom
DESCRIPTION:MHS Grand March
X-ALT-DESC;FMTTYPE=text/html:MHS Grand March
LOCATION:The World's Only Corn Palace
UID:e.1624.42882
SEQUENCE:3
DTSTAMP:20260421T095507Z
URL:https://business.mitchellchamber.com/events/details/mitchell-high-school-prom-04-25-2026-42882
END:VEVENT

END:VCALENDAR
