BEGIN:VCALENDAR
VERSION:2.0
PRODID:-//ChamberMaster//Event Calendar 2.0//EN
METHOD:PUBLISH
X-PUBLISHED-TTL:P3D
REFRESH-INTERVAL:P3D
CALSCALE:GREGORIAN
BEGIN:VEVENT
DTSTART:20190125T220000Z
DTEND:20190126T023000Z
X-MICROSOFT-CDO-ALLDAYEVENT:FALSE
SUMMARY:Mitchell High School Girls vs Watertown
DESCRIPTION:http://cornpalace.com/calendar.aspx?EID=338
X-ALT-DESC;FMTTYPE=text/html: http://cornpalace.com/calendar.aspx?EID=338
LOCATION:The World's Only Corn Palace - 604 N Main St Mitchell SD 57301
UID:e.1624.22499
SEQUENCE:3
DTSTAMP:20260424T184626Z
URL:https://business.mitchellchamber.com/events/details/mitchell-high-school-girls-vs-watertown-01-25-2019-22499
END:VEVENT

END:VCALENDAR
