BEGIN:VCALENDAR
VERSION:2.0
PRODID:-//ChamberMaster//Event Calendar 2.0//EN
METHOD:PUBLISH
X-PUBLISHED-TTL:P3D
REFRESH-INTERVAL:P3D
CALSCALE:GREGORIAN
BEGIN:VEVENT
DTSTART;VALUE=DATE:20231117
DTEND;VALUE=DATE:20231118
TRANSP:TRANSPARENT
X-MICROSOFT-CDO-ALLDAYEVENT:TRUE
SUMMARY:Mitchell High School FDC Fundraiser
DESCRIPTION:Looking for a fun way to connect with family and friends all for a good cause? Join our most popular workshop and create your own unique wood sign! Select a wood project from our gallery. We provide all the materials and instruct you step-by-step to create a beautiful piece for your home or for a gift. Choose from a variety of paint and wood stain colors in the workshop. Pre-registration is required. Help us raise money for a great cause\, 20% of all proceeds will go towards Mitchell High School Friend de Coup!
X-ALT-DESC;FMTTYPE=text/html:Looking for a fun way to connect with family and friends all for a good cause? Join our most popular workshop and create your own unique wood sign! Select a wood project from our gallery. We provide all the materials and instruct you step-by-step to create a beautiful piece for your home or for a gift. Choose from a variety of paint and wood stain colors in the workshop. Pre-registration is required. Help us raise money for a great cause\, 20% of all proceeds will go towards Mitchell High School Friend de Coup!
LOCATION:Board & Brush 405 N Main St. Mitchell\, SD 57301
UID:e.1624.35184
SEQUENCE:3
DTSTAMP:20260420T141713Z
URL:https://business.mitchellchamber.com/events/details/mitchell-high-school-fdc-fundraiser-35184
END:VEVENT

END:VCALENDAR
