BEGIN:VCALENDAR
VERSION:2.0
PRODID:-//ChamberMaster//Event Calendar 2.0//EN
METHOD:PUBLISH
X-PUBLISHED-TTL:P3D
REFRESH-INTERVAL:P3D
CALSCALE:GREGORIAN
BEGIN:VEVENT
DTSTART:20220107T213000Z
DTEND:20220108T040000Z
X-MICROSOFT-CDO-ALLDAYEVENT:FALSE
SUMMARY:Mitchell Girls & Boys Basketball vs. Yankton
DESCRIPTION:Basketball: Girls JV Game - 330pm\n\nBasketball: Boys 9th Grade Game - 330pm\n\nBasketball: Boys JV Game - 330pm\n\nBasketball: Girls 10th Grade Game - 445pm\n\nBasketball: Boys 10th Grade Game - 445pm\n\nBasketball: Girls Varsity Game - 600pm\n\nBasketball: Boys Varsity Game - 730pm
X-ALT-DESC;FMTTYPE=text/html:Basketball: Girls JV Game - 330pm<br />\nBasketball: Boys 9th Grade Game - 330pm<br />\nBasketball: Boys JV Game - 330pm<br />\nBasketball: Girls 10th Grade Game - 445pm<br />\nBasketball: Boys 10th Grade Game - 445pm<br />\nBasketball: Girls Varsity Game - 600pm<br />\nBasketball: Boys Varsity Game - 730pm
LOCATION:Corn Palace Mitchell\, South Dakota
UID:e.1624.31983
SEQUENCE:3
DTSTAMP:20260422T130229Z
URL:https://business.mitchellchamber.com/events/details/mitchell-girls-boys-basketball-vs-yankton-31983
END:VEVENT

END:VCALENDAR
